Package: regionalpcs Version: 1.6.0 Command: /home/biocbuild/R/R/bin/R CMD check --install=check:regionalpcs.install-out.txt --library=/home/biocbuild/R/R/site-library --no-vignettes --timings regionalpcs_1.6.0.tar.gz StartedAt: 2025-05-16 12:14:15 -0000 (Fri, 16 May 2025) EndedAt: 2025-05-16 12:15:03 -0000 (Fri, 16 May 2025) EllapsedTime: 48.0 seconds RetCode: 0 Status: OK CheckDir: regionalpcs.Rcheck Warnings: 0