Package: regionReport Version: 1.42.0 Command: /home/biocbuild/bbs-3.21-bioc/R/bin/R CMD INSTALL regionReport StartedAt: 2025-10-01 16:00:50 -0400 (Wed, 01 Oct 2025) EndedAt: 2025-10-01 16:01:38 -0400 (Wed, 01 Oct 2025) EllapsedTime: 48.2 seconds RetCode: 0 Status: OK