Package: regionReport Version: 1.42.0 Command: /home/biocbuild/bbs-3.21-bioc/R/bin/R CMD build --keep-empty-dirs --no-resave-data regionReport StartedAt: 2025-10-15 19:25:50 -0400 (Wed, 15 Oct 2025) EndedAt: 2025-10-15 19:26:58 -0400 (Wed, 15 Oct 2025) EllapsedTime: 68.0 seconds RetCode: 0 Status: OK PackageFile: regionReport_1.42.0.tar.gz PackageFileSize: 643.6 KiB