Package: regionReport Version: 1.42.0 Command: rm -rf regionReport.buildbin-libdir && mkdir regionReport.buildbin-libdir && /Users/biocbuild/BBS/utils/build-universal.sh regionReport_1.42.0.tar.gz /Library/Frameworks/R.framework/Resources/bin/R regionReport.buildbin-libdir StartedAt: 2025-04-22 01:03:28 -0400 (Tue, 22 Apr 2025) EndedAt: 2025-04-22 01:04:31 -0400 (Tue, 22 Apr 2025) EllapsedTime: 63.0 seconds RetCode: 0 Status: OK PackageFile: regionReport_1.42.0.tgz PackageFileSize: 694.6 KiB