Package: recoup Version: 1.34.0 Command: /home/biocbuild/R/R/bin/R CMD check --install=check:recoup.install-out.txt --library=/home/biocbuild/R/R/site-library --no-vignettes --timings recoup_1.34.0.tar.gz StartedAt: 2025-02-04 10:17:37 -0000 (Tue, 04 Feb 2025) EndedAt: 2025-02-04 10:25:56 -0000 (Tue, 04 Feb 2025) EllapsedTime: 498.7 seconds RetCode: 0 Status: OK CheckDir: recoup.Rcheck Warnings: 0