Package: recountmethylation Version: 1.18.0 Maintainer: Sean K Maden MaintainerEmail: maden at ohsu.edu git_url: https://git.bioconductor.org/packages/recountmethylation git_branch: RELEASE_3_21 git_last_commit: cb06ac6 git_last_commit_date: 2025-04-15 12:08:00 -0400 (Tue, 15 Apr 2025)