Package: recount3 Version: 1.16.0 Command: /home/biocbuild/R/R/bin/R CMD INSTALL recount3 StartedAt: 2025-01-30 20:24:08 -0000 (Thu, 30 Jan 2025) EndedAt: 2025-01-30 20:24:48 -0000 (Thu, 30 Jan 2025) EllapsedTime: 40.3 seconds RetCode: 0 Status: OK