Package: recount3 Version: 1.18.0 Command: /Library/Frameworks/R.framework/Resources/bin/R CMD INSTALL recount3 StartedAt: 2025-04-28 19:15:09 -0400 (Mon, 28 Apr 2025) EndedAt: 2025-04-28 19:15:22 -0400 (Mon, 28 Apr 2025) EllapsedTime: 13.5 seconds RetCode: 0 Status: OK