Package: recount3 Version: 1.16.0 Command: /Library/Frameworks/R.framework/Resources/bin/R CMD check --install=check:recount3.install-out.txt --library=/Library/Frameworks/R.framework/Resources/library --no-vignettes --timings recount3_1.16.0.tar.gz StartedAt: 2025-02-01 06:11:57 -0500 (Sat, 01 Feb 2025) EndedAt: 2025-02-01 06:22:29 -0500 (Sat, 01 Feb 2025) EllapsedTime: 631.5 seconds RetCode: 0 Status: OK CheckDir: recount3.Rcheck Warnings: 0