Package: recount3 Version: 1.16.0 Command: /Library/Frameworks/R.framework/Resources/bin/R CMD build --keep-empty-dirs --no-resave-data recount3 StartedAt: 2025-01-31 06:14:40 -0500 (Fri, 31 Jan 2025) EndedAt: 2025-01-31 06:18:00 -0500 (Fri, 31 Jan 2025) EllapsedTime: 199.9 seconds RetCode: 0 Status: OK PackageFile: recount3_1.16.0.tar.gz PackageFileSize: 562.7 KiB