Package: reconsi Version: 1.20.0 Command: /Library/Frameworks/R.framework/Resources/bin/R CMD build --keep-empty-dirs --no-resave-data reconsi StartedAt: 2025-04-21 18:07:26 -0400 (Mon, 21 Apr 2025) EndedAt: 2025-04-21 18:08:49 -0400 (Mon, 21 Apr 2025) EllapsedTime: 83.5 seconds RetCode: 0 Status: OK PackageFile: reconsi_1.20.0.tar.gz PackageFileSize: 140.7 KiB