Package: receptLoss Version: 1.18.0 Command: /home/biocbuild/R/R/bin/R CMD build --keep-empty-dirs --no-resave-data receptLoss StartedAt: 2025-01-31 02:04:17 -0000 (Fri, 31 Jan 2025) EndedAt: 2025-01-31 02:04:54 -0000 (Fri, 31 Jan 2025) EllapsedTime: 37.0 seconds RetCode: 0 Status: OK PackageFile: receptLoss_1.18.0.tar.gz PackageFileSize: 705.8 KiB