Package: receptLoss Version: 1.20.0 Command: /home/biocbuild/R/R/bin/R CMD build --keep-empty-dirs --no-resave-data receptLoss StartedAt: 2025-10-03 03:51:38 -0000 (Fri, 03 Oct 2025) EndedAt: 2025-10-03 03:52:23 -0000 (Fri, 03 Oct 2025) EllapsedTime: 45.0 seconds RetCode: 0 Status: OK PackageFile: receptLoss_1.20.0.tar.gz PackageFileSize: 705.9 KiB