Package: rcellminer Version: 2.30.1 Command: E:\biocbuild\bbs-3.21-bioc\R\bin\R.exe CMD INSTALL rcellminer StartedAt: 2025-08-14 15:45:47 -0400 (Thu, 14 Aug 2025) EndedAt: 2025-08-14 15:46:51 -0400 (Thu, 14 Aug 2025) EllapsedTime: 64.2 seconds RetCode: 0 Status: OK