Package: rcellminer Version: 2.30.1 Command: chmod a+r rcellminer -R && E:\biocbuild\bbs-3.21-bioc\R\bin\R.exe CMD build --keep-empty-dirs --no-resave-data rcellminer StartedAt: 2025-08-14 21:37:22 -0400 (Thu, 14 Aug 2025) EndedAt: 2025-08-14 21:40:57 -0400 (Thu, 14 Aug 2025) EllapsedTime: 215.2 seconds RetCode: 0 Status: OK PackageFile: rcellminer_2.30.1.tar.gz PackageFileSize: 707.3 KiB