Package: rawrr Version: 1.16.0 Command: /Library/Frameworks/R.framework/Resources/bin/R CMD check --install=check:rawrr.install-out.txt --library=/Library/Frameworks/R.framework/Resources/library --no-vignettes --timings rawrr_1.16.0.tar.gz StartedAt: 2025-05-02 08:15:25 -0400 (Fri, 02 May 2025) EndedAt: 2025-05-02 08:18:12 -0400 (Fri, 02 May 2025) EllapsedTime: 167.3 seconds RetCode: 0 Status: OK CheckDir: rawrr.Rcheck Warnings: 0