Package: rawrr Version: 1.16.0 Command: /Library/Frameworks/R.framework/Resources/bin/R CMD build --keep-empty-dirs --no-resave-data rawrr StartedAt: 2025-05-01 21:35:59 -0400 (Thu, 01 May 2025) EndedAt: 2025-05-01 21:38:38 -0400 (Thu, 01 May 2025) EllapsedTime: 159.0 seconds RetCode: 0 Status: OK PackageFile: rawrr_1.16.0.tar.gz PackageFileSize: 1.996 MiB