Package: rawrr Version: 1.16.0 Command: rm -rf rawrr.buildbin-libdir && mkdir rawrr.buildbin-libdir && /Users/biocbuild/BBS/utils/build-universal.sh rawrr_1.16.0.tar.gz /Library/Frameworks/R.framework/Resources/bin/R rawrr.buildbin-libdir StartedAt: 2025-04-21 22:47:50 -0400 (Mon, 21 Apr 2025) EndedAt: 2025-04-21 22:47:52 -0400 (Mon, 21 Apr 2025) EllapsedTime: 2.1 seconds RetCode: 0 Status: OK PackageFile: rawrr_1.16.0.tgz PackageFileSize: 2.028 MiB