Package: rawrr Version: 1.14.0 Command: /Library/Frameworks/R.framework/Resources/bin/R CMD INSTALL rawrr StartedAt: 2025-01-30 15:06:15 -0500 (Thu, 30 Jan 2025) EndedAt: 2025-01-30 15:06:21 -0500 (Thu, 30 Jan 2025) EllapsedTime: 6.2 seconds RetCode: 0 Status: OK