Package: rawrr Version: 1.16.0 Command: /Library/Frameworks/R.framework/Resources/bin/R CMD build --keep-empty-dirs --no-resave-data rawrr StartedAt: 2025-04-25 08:06:18 -0400 (Fri, 25 Apr 2025) EndedAt: 2025-04-25 08:06:33 -0400 (Fri, 25 Apr 2025) EllapsedTime: 15.0 seconds RetCode: 1 Status: ERROR PackageFile: None PackageFileSize: NA