Package: rawDiag Version: 1.4.0 Command: rm -rf rawDiag.buildbin-libdir && mkdir rawDiag.buildbin-libdir && /Users/biocbuild/BBS/utils/build-universal.sh rawDiag_1.4.0.tar.gz /Library/Frameworks/R.framework/Resources/bin/R rawDiag.buildbin-libdir StartedAt: 2025-04-21 22:47:48 -0400 (Mon, 21 Apr 2025) EndedAt: 2025-04-21 22:47:51 -0400 (Mon, 21 Apr 2025) EllapsedTime: 3.0 seconds RetCode: 0 Status: OK PackageFile: rawDiag_1.4.0.tgz PackageFileSize: 2.088 MiB