Package: rawDiag Version: 1.4.0 Maintainer: Christian Panse MaintainerEmail: cp at fgcz.ethz.ch git_url: https://git.bioconductor.org/packages/rawDiag git_branch: RELEASE_3_21 git_last_commit: 0053f45 git_last_commit_date: 2025-04-15 13:29:34 -0400 (Tue, 15 Apr 2025)