Package: randRotation Version: 1.18.0 Command: F:\biocbuild\bbs-3.20-bioc\R\bin\R.exe CMD INSTALL randRotation StartedAt: 2025-01-02 15:38:58 -0500 (Thu, 02 Jan 2025) EndedAt: 2025-01-02 15:39:35 -0500 (Thu, 02 Jan 2025) EllapsedTime: 36.5 seconds RetCode: 0 Status: OK