Package: randPack Version: 1.52.0 Command: /home/biocbuild/R/R/bin/R CMD build --keep-empty-dirs --no-resave-data randPack StartedAt: 2025-01-31 01:59:51 -0000 (Fri, 31 Jan 2025) EndedAt: 2025-01-31 01:59:59 -0000 (Fri, 31 Jan 2025) EllapsedTime: 8.0 seconds RetCode: 0 Status: OK PackageFile: randPack_1.52.0.tar.gz PackageFileSize: 244.7 KiB