Package: ramwas Version: 1.32.0 Command: /home/biocbuild/bbs-3.21-bioc/R/bin/R CMD build --keep-empty-dirs --no-resave-data ramwas StartedAt: 2025-10-01 19:24:51 -0400 (Wed, 01 Oct 2025) EndedAt: 2025-10-01 19:29:00 -0400 (Wed, 01 Oct 2025) EllapsedTime: 248.3 seconds RetCode: 0 Status: OK PackageFile: ramwas_1.32.0.tar.gz PackageFileSize: 3.211 MiB