Package: ramr Version: 1.14.0 Command: /home/biocbuild/R/R/bin/R CMD check --install=check:ramr.install-out.txt --library=/home/biocbuild/R/R/site-library --no-vignettes --timings ramr_1.14.0.tar.gz StartedAt: 2025-01-31 09:29:49 -0000 (Fri, 31 Jan 2025) EndedAt: 2025-01-31 09:32:48 -0000 (Fri, 31 Jan 2025) EllapsedTime: 179.3 seconds RetCode: 0 Status: OK CheckDir: ramr.Rcheck Warnings: 0