Package: ramr Version: 1.16.0 Command: /Library/Frameworks/R.framework/Resources/bin/R CMD check --install=check:ramr.install-out.txt --library=/Library/Frameworks/R.framework/Resources/library --no-vignettes --timings ramr_1.16.0.tar.gz StartedAt: 2025-04-21 21:06:36 -0400 (Mon, 21 Apr 2025) EndedAt: 2025-04-21 21:08:02 -0400 (Mon, 21 Apr 2025) EllapsedTime: 86.1 seconds RetCode: 0 Status: OK CheckDir: ramr.Rcheck Warnings: 0