Package: ramr Version: 1.16.0 Command: /Library/Frameworks/R.framework/Resources/bin/R CMD build --keep-empty-dirs --no-resave-data ramr StartedAt: 2025-04-21 17:22:03 -0400 (Mon, 21 Apr 2025) EndedAt: 2025-04-21 17:22:47 -0400 (Mon, 21 Apr 2025) EllapsedTime: 43.5 seconds RetCode: 0 Status: OK PackageFile: ramr_1.16.0.tar.gz PackageFileSize: 2.845 MiB