Package: rain Version: 1.42.0 Command: /Library/Frameworks/R.framework/Resources/bin/R CMD build --keep-empty-dirs --no-resave-data rain StartedAt: 2025-05-06 06:30:12 -0400 (Tue, 06 May 2025) EndedAt: 2025-05-06 06:30:48 -0400 (Tue, 06 May 2025) EllapsedTime: 36.4 seconds RetCode: 0 Status: OK PackageFile: rain_1.42.0.tar.gz PackageFileSize: 603.9 KiB