Package: rain Version: 1.42.0 Command: rm -rf rain.buildbin-libdir && mkdir rain.buildbin-libdir && /Users/biocbuild/BBS/utils/build-universal.sh rain_1.42.0.tar.gz /Library/Frameworks/R.framework/Resources/bin/R rain.buildbin-libdir StartedAt: 2025-05-07 17:13:15 -0400 (Wed, 07 May 2025) EndedAt: 2025-05-07 17:13:25 -0400 (Wed, 07 May 2025) EllapsedTime: 9.9 seconds RetCode: 0 Status: OK PackageFile: rain_1.42.0.tgz PackageFileSize: 631.9 KiB