Package: rTRM Version: 1.46.0 Command: /Library/Frameworks/R.framework/Resources/bin/R CMD INSTALL rTRM StartedAt: 2025-04-21 15:17:33 -0400 (Mon, 21 Apr 2025) EndedAt: 2025-04-21 15:17:55 -0400 (Mon, 21 Apr 2025) EllapsedTime: 21.8 seconds RetCode: 0 Status: OK