Package: rTRM Version: 1.46.0 Command: /Library/Frameworks/R.framework/Resources/bin/R CMD build --keep-empty-dirs --no-resave-data rTRM StartedAt: 2025-04-25 08:58:38 -0400 (Fri, 25 Apr 2025) EndedAt: 2025-04-25 08:59:37 -0400 (Fri, 25 Apr 2025) EllapsedTime: 58.8 seconds RetCode: 0 Status: OK PackageFile: rTRM_1.46.0.tar.gz PackageFileSize: 3.553 MiB