Package: rScudo Version: 1.22.0 Command: /home/biocbuild/R/R/bin/R CMD INSTALL rScudo StartedAt: 2025-02-03 20:31:31 -0000 (Mon, 03 Feb 2025) EndedAt: 2025-02-03 20:31:34 -0000 (Mon, 03 Feb 2025) EllapsedTime: 3.4 seconds RetCode: 0 Status: OK