Package: rScudo Version: 1.22.0 Command: /home/biocbuild/R/R/bin/R CMD build --keep-empty-dirs --no-resave-data rScudo StartedAt: 2025-01-31 02:18:49 -0000 (Fri, 31 Jan 2025) EndedAt: 2025-01-31 02:21:06 -0000 (Fri, 31 Jan 2025) EllapsedTime: 136.2 seconds RetCode: 0 Status: OK PackageFile: rScudo_1.22.0.tar.gz PackageFileSize: 592.6 KiB