Package: rSWeeP Version: 1.18.0 Command: /Library/Frameworks/R.framework/Resources/bin/R CMD INSTALL rSWeeP StartedAt: 2025-01-02 15:17:18 -0500 (Thu, 02 Jan 2025) EndedAt: 2025-01-02 15:17:42 -0500 (Thu, 02 Jan 2025) EllapsedTime: 23.3 seconds RetCode: 0 Status: OK