Package: rSWeeP Version: 1.20.0 Command: rm -rf rSWeeP.buildbin-libdir && mkdir rSWeeP.buildbin-libdir && /Users/biocbuild/BBS/utils/build-universal.sh rSWeeP_1.20.0.tar.gz /Library/Frameworks/R.framework/Resources/bin/R rSWeeP.buildbin-libdir StartedAt: 2025-04-22 01:05:50 -0400 (Tue, 22 Apr 2025) EndedAt: 2025-04-22 01:06:09 -0400 (Tue, 22 Apr 2025) EllapsedTime: 18.5 seconds RetCode: 0 Status: OK PackageFile: rSWeeP_1.20.0.tgz PackageFileSize: 460.3 KiB