Package: rRDP Version: 1.40.0 Command: /home/biocbuild/R/R/bin/R CMD INSTALL rRDP StartedAt: 2025-01-30 20:15:11 -0000 (Thu, 30 Jan 2025) EndedAt: 2025-01-30 20:15:23 -0000 (Thu, 30 Jan 2025) EllapsedTime: 12.7 seconds RetCode: 0 Status: OK