Package: rRDP Version: 1.40.0 Command: F:\biocbuild\bbs-3.20-bioc\R\bin\R.exe CMD INSTALL rRDP StartedAt: 2025-01-30 15:38:04 -0500 (Thu, 30 Jan 2025) EndedAt: 2025-01-30 15:38:22 -0500 (Thu, 30 Jan 2025) EllapsedTime: 18.6 seconds RetCode: 0 Status: OK