Package: rRDP Version: 1.42.0 Command: /home/biocbuild/R/R/bin/R CMD build --keep-empty-dirs --no-resave-data rRDP StartedAt: 2025-04-22 04:03:27 -0000 (Tue, 22 Apr 2025) EndedAt: 2025-04-22 04:04:04 -0000 (Tue, 22 Apr 2025) EllapsedTime: 37.1 seconds RetCode: 0 Status: OK PackageFile: rRDP_1.42.0.tar.gz PackageFileSize: 2.595 MiB