Package: rRDP Version: 1.42.0 Command: rm -rf rRDP.buildbin-libdir && mkdir rRDP.buildbin-libdir && /Users/biocbuild/BBS/utils/build-universal.sh rRDP_1.42.0.tar.gz /Library/Frameworks/R.framework/Resources/bin/R rRDP.buildbin-libdir StartedAt: 2025-04-21 22:50:04 -0400 (Mon, 21 Apr 2025) EndedAt: 2025-04-21 22:50:09 -0400 (Mon, 21 Apr 2025) EllapsedTime: 5.1 seconds RetCode: 0 Status: OK PackageFile: rRDP_1.42.0.tgz PackageFileSize: 2.63 MiB