Package: rRDP Version: 1.42.0 Command: /Library/Frameworks/R.framework/Resources/bin/R CMD check --install=check:rRDP.install-out.txt --library=/Library/Frameworks/R.framework/Resources/library --no-vignettes --timings rRDP_1.42.0.tar.gz StartedAt: 2025-05-07 07:58:05 -0400 (Wed, 07 May 2025) EndedAt: 2025-05-07 07:59:45 -0400 (Wed, 07 May 2025) EllapsedTime: 100.1 seconds RetCode: 0 Status: OK CheckDir: rRDP.Rcheck Warnings: 0