Package: rGREAT Version: 2.10.0 Command: chmod a+r rGREAT -R && E:\biocbuild\bbs-3.21-bioc\R\bin\R.exe CMD build --keep-empty-dirs --no-resave-data rGREAT StartedAt: 2025-08-14 21:44:15 -0400 (Thu, 14 Aug 2025) EndedAt: 2025-08-14 21:45:52 -0400 (Thu, 14 Aug 2025) EllapsedTime: 97.6 seconds RetCode: 0 Status: OK PackageFile: rGREAT_2.10.0.tar.gz PackageFileSize: 2.754 MiB