Package: rGREAT Version: 2.10.0 Command: /Library/Frameworks/R.framework/Resources/bin/R CMD build --keep-empty-dirs --no-resave-data rGREAT StartedAt: 2025-04-21 17:26:00 -0400 (Mon, 21 Apr 2025) EndedAt: 2025-04-21 17:26:23 -0400 (Mon, 21 Apr 2025) EllapsedTime: 23.2 seconds RetCode: 0 Status: OK PackageFile: rGREAT_2.10.0.tar.gz PackageFileSize: 2.754 MiB