Package: rGADEM Version: 2.54.0 Command: F:\biocbuild\bbs-3.20-bioc\R\bin\R.exe CMD INSTALL rGADEM StartedAt: 2025-01-30 16:09:49 -0500 (Thu, 30 Jan 2025) EndedAt: 2025-01-30 16:10:59 -0500 (Thu, 30 Jan 2025) EllapsedTime: 70.1 seconds RetCode: 0 Status: OK