Package: rGADEM Version: 2.56.0 Command: /home/biocbuild/R/R/bin/R CMD INSTALL rGADEM StartedAt: 2025-04-21 20:42:04 -0000 (Mon, 21 Apr 2025) EndedAt: 2025-04-21 20:42:11 -0000 (Mon, 21 Apr 2025) EllapsedTime: 7.3 seconds RetCode: 1 Status: ERROR