Package: rGADEM Version: 2.54.0 Command: /Library/Frameworks/R.framework/Resources/bin/R CMD INSTALL rGADEM StartedAt: 2024-11-08 15:25:53 -0500 (Fri, 08 Nov 2024) EndedAt: 2024-11-08 15:26:11 -0500 (Fri, 08 Nov 2024) EllapsedTime: 17.8 seconds RetCode: 0 Status: OK