Package: rGADEM Version: 2.54.0 Command: /Library/Frameworks/R.framework/Resources/bin/R CMD build --keep-empty-dirs --no-resave-data rGADEM StartedAt: 2024-11-08 18:47:40 -0500 (Fri, 08 Nov 2024) EndedAt: 2024-11-08 18:48:07 -0500 (Fri, 08 Nov 2024) EllapsedTime: 27.3 seconds RetCode: 0 Status: OK PackageFile: rGADEM_2.54.0.tar.gz PackageFileSize: 377 KiB