Package: rGADEM Version: 2.56.0 Command: rm -rf rGADEM.buildbin-libdir && mkdir rGADEM.buildbin-libdir && /Users/biocbuild/BBS/utils/build-universal.sh rGADEM_2.56.0.tar.gz /Library/Frameworks/R.framework/Resources/bin/R rGADEM.buildbin-libdir StartedAt: 2025-04-21 22:48:40 -0400 (Mon, 21 Apr 2025) EndedAt: 2025-04-21 22:49:04 -0400 (Mon, 21 Apr 2025) EllapsedTime: 23.4 seconds RetCode: 0 Status: OK PackageFile: rGADEM_2.56.0.tgz PackageFileSize: 679.4 KiB