Package: rGADEM Version: 2.56.0 Command: /Library/Frameworks/R.framework/Resources/bin/R CMD check --install=check:rGADEM.install-out.txt --library=/Library/Frameworks/R.framework/Resources/library --no-vignettes --timings rGADEM_2.56.0.tar.gz StartedAt: 2025-04-26 08:33:24 -0400 (Sat, 26 Apr 2025) EndedAt: 2025-04-26 08:37:53 -0400 (Sat, 26 Apr 2025) EllapsedTime: 268.5 seconds RetCode: 0 Status: WARNINGS CheckDir: rGADEM.Rcheck Warnings: 1