Package: rGADEM Version: 2.56.0 Command: rm -rf rGADEM.buildbin-libdir && mkdir rGADEM.buildbin-libdir && /Users/biocbuild/BBS/utils/build-universal.sh rGADEM_2.56.0.tar.gz /Library/Frameworks/R.framework/Resources/bin/R rGADEM.buildbin-libdir StartedAt: 2025-04-26 18:47:49 -0400 (Sat, 26 Apr 2025) EndedAt: 2025-04-26 18:48:47 -0400 (Sat, 26 Apr 2025) EllapsedTime: 57.5 seconds RetCode: 1 Status: ERROR PackageFile: None PackageFileSize: NA